BEGIN:VCALENDAR
BEGIN:VEVENT
SUMMARY:Funeral notice for CROSS\, Ann Marie
DTSTART:20260427T000000
DTEND:20260428T000000
DTSTAMP:20260423T234042Z
UID:6355198
DESCRIPTION:For the Funeral time and location details\, please view the no
 tice on the My Tributes site. (https://www.cobramcourier.com.au/tributes/n
 otice/funeral-notices/cross-ann-marie/6355198/)
END:VEVENT
END:VCALENDAR
