BEGIN:VCALENDAR
BEGIN:VEVENT
SUMMARY:Funeral notice for COVERDALE\, Russell Garnet
DTSTART:20260430T000000
DTEND:20260501T000000
DTSTAMP:20260426T084214Z
UID:6355122
DESCRIPTION:For the Funeral time and location details\, please view the no
 tice on the My Tributes site. (https://www.cobramcourier.com.au/tributes/n
 otice/funeral-notices/coverdale-russell-garnet/6355122/)
END:VEVENT
END:VCALENDAR
