BEGIN:VCALENDAR
BEGIN:VEVENT
SUMMARY:Funeral notice for BOAL\, Norma Gwendoline
DTSTART:20260428T000000
DTEND:20260429T000000
DTSTAMP:20260424T192029Z
UID:6355074
DESCRIPTION:For the Funeral time and location details\, please view the no
 tice on the My Tributes site. (https://www.cobramcourier.com.au/tributes/n
 otice/funeral-notices/boal-norma-gwendoline/6355074/)
END:VEVENT
END:VCALENDAR
