BEGIN:VCALENDAR
BEGIN:VEVENT
SUMMARY:Funeral notice for MACGREGOR\, Valma Jeaune
DTSTART:20260427T000000
DTEND:20260428T000000
DTSTAMP:20260420T060509Z
UID:6354894
DESCRIPTION:For the Funeral time and location details\, please view the no
 tice on the My Tributes site. (https://www.cobramcourier.com.au/tributes/n
 otice/funeral-notices/macgregor-valma-jeaune/6354894/)
END:VEVENT
END:VCALENDAR
