BEGIN:VCALENDAR
BEGIN:VEVENT
SUMMARY:Funeral notice for KUBANK (NEE AUCHTERLONIE)\, Alma
DTSTART:20260421T000000
DTEND:20260422T000000
DTSTAMP:20260420T215535Z
UID:6354865
DESCRIPTION:For the Funeral time and location details\, please view the no
 tice on the My Tributes site. (https://www.cobramcourier.com.au/tributes/n
 otice/funeral-notices/kubank-nee-auchterlonie-alma/6354865/)
END:VEVENT
END:VCALENDAR
