BEGIN:VCALENDAR
BEGIN:VEVENT
SUMMARY:Funeral notice for PAVLOVIC\, Javorka
DTSTART:20260421T000000
DTEND:20260422T000000
DTSTAMP:20260420T045257Z
UID:6354856
DESCRIPTION:For the Funeral time and location details\, please view the no
 tice on the My Tributes site. (https://www.cobramcourier.com.au/tributes/n
 otice/funeral-notices/pavlovic-javorka/6354856/)
END:VEVENT
END:VCALENDAR
