BEGIN:VCALENDAR
BEGIN:VEVENT
SUMMARY:Funeral notice for BURNETT\, Wilma Elizabeth
DTSTART:20260424T000000
DTEND:20260425T000000
DTSTAMP:20260424T140431Z
UID:6354764
DESCRIPTION:For the Funeral time and location details\, please view the no
 tice on the My Tributes site. (https://www.cobramcourier.com.au/tributes/n
 otice/funeral-notices/burnett-wilma-elizabeth/6354764/)
END:VEVENT
END:VCALENDAR
