BEGIN:VCALENDAR
BEGIN:VEVENT
SUMMARY:Funeral notice for PURCELL\, Irma Louetta
DTSTART:20260428T000000
DTEND:20260429T000000
DTSTAMP:20260426T072401Z
UID:6354646
DESCRIPTION:For the Funeral time and location details\, please view the no
 tice on the My Tributes site. (https://www.cobramcourier.com.au/tributes/n
 otice/funeral-notices/purcell-irma-louetta/6354646/)
END:VEVENT
END:VCALENDAR
