BEGIN:VCALENDAR
BEGIN:VEVENT
SUMMARY:Funeral notice for FIORIN\, Rino Alfredo
DTSTART:20260422T000000
DTEND:20260423T000000
DTSTAMP:20260422T165445Z
UID:6354638
DESCRIPTION:For the Funeral time and location details\, please view the no
 tice on the My Tributes site. (https://www.cobramcourier.com.au/tributes/n
 otice/funeral-notices/fiorin-rino-alfredo/6354638/)
END:VEVENT
END:VCALENDAR
