BEGIN:VCALENDAR
BEGIN:VEVENT
SUMMARY:Funeral notice for STOTT\, Mildred Fay (nee Lorke)
DTSTART:20260424T000000
DTEND:20260425T000000
DTSTAMP:20260426T065536Z
UID:6354602
DESCRIPTION:For the Funeral time and location details\, please view the no
 tice on the My Tributes site. (https://www.cobramcourier.com.au/tributes/n
 otice/funeral-notices/stott-mildred-fay-nee-lorke/6354602/)
END:VEVENT
END:VCALENDAR
