BEGIN:VCALENDAR
BEGIN:VEVENT
SUMMARY:Funeral notice for WALTERS\, Geoffrey Noel
DTSTART:20260420T000000
DTEND:20260421T000000
DTSTAMP:20260421T150312Z
UID:6354590
DESCRIPTION:For the Funeral time and location details\, please view the no
 tice on the My Tributes site. (https://www.cobramcourier.com.au/tributes/n
 otice/funeral-notices/walters-geoffrey-noel/6354590/)
END:VEVENT
END:VCALENDAR
