BEGIN:VCALENDAR
BEGIN:VEVENT
SUMMARY:Funeral notice for WILD\, Rose Ida
DTSTART:20260420T000000
DTEND:20260421T000000
DTSTAMP:20260421T150154Z
UID:6354009
DESCRIPTION:For the Funeral time and location details\, please view the no
 tice on the My Tributes site. (https://www.cobramcourier.com.au/tributes/n
 otice/funeral-notices/wild-rose-ida/6354009/)
END:VEVENT
END:VCALENDAR
