BEGIN:VCALENDAR
BEGIN:VEVENT
SUMMARY:Funeral notice for TURNER (PATTERSON)\, Carole Ann
DTSTART:20260416T000000
DTEND:20260417T000000
DTSTAMP:20260423T012916Z
UID:6353432
DESCRIPTION:For the Funeral time and location details\, please view the no
 tice on the My Tributes site. (https://www.cobramcourier.com.au/tributes/n
 otice/funeral-notices/turner-carole-ann/6353432/)
END:VEVENT
END:VCALENDAR
