BEGIN:VCALENDAR
BEGIN:VEVENT
SUMMARY:Funeral notice for CHARLINE JOYCE (CHAR)\, SPEEDY
DTSTART:20260415T000000
DTEND:20260416T000000
DTSTAMP:20260423T063407Z
UID:6352086
DESCRIPTION:For the Funeral time and location details\, please view the no
 tice on the My Tributes site. (https://www.cobramcourier.com.au/tributes/n
 otice/funeral-notices/charline-joyce-char-speedy/6352086/)
END:VEVENT
END:VCALENDAR
